BEGIN:VCALENDAR
VERSION:2.0
PRODID:-//IAM Local1487 - ECPv6.15.20//NONSGML v1.0//EN
CALSCALE:GREGORIAN
METHOD:PUBLISH
X-WR-CALNAME:IAM Local1487
X-ORIGINAL-URL:https://iamlocal1487.org
X-WR-CALDESC:Events for IAM Local1487
REFRESH-INTERVAL;VALUE=DURATION:PT1H
X-Robots-Tag:noindex
X-PUBLISHED-TTL:PT1H
BEGIN:VTIMEZONE
TZID:America/Chicago
BEGIN:DAYLIGHT
TZOFFSETFROM:-0600
TZOFFSETTO:-0500
TZNAME:CDT
DTSTART:20230312T080000
END:DAYLIGHT
BEGIN:STANDARD
TZOFFSETFROM:-0500
TZOFFSETTO:-0600
TZNAME:CST
DTSTART:20231105T070000
END:STANDARD
BEGIN:DAYLIGHT
TZOFFSETFROM:-0600
TZOFFSETTO:-0500
TZNAME:CDT
DTSTART:20240310T080000
END:DAYLIGHT
BEGIN:STANDARD
TZOFFSETFROM:-0500
TZOFFSETTO:-0600
TZNAME:CST
DTSTART:20241103T070000
END:STANDARD
BEGIN:DAYLIGHT
TZOFFSETFROM:-0600
TZOFFSETTO:-0500
TZNAME:CDT
DTSTART:20250309T080000
END:DAYLIGHT
BEGIN:STANDARD
TZOFFSETFROM:-0500
TZOFFSETTO:-0600
TZNAME:CST
DTSTART:20251102T070000
END:STANDARD
END:VTIMEZONE
BEGIN:VEVENT
DTSTART;TZID=America/Chicago:20241203T150000
DTEND;TZID=America/Chicago:20241203T170000
DTSTAMP:20260424T082557
CREATED:20240829T153726Z
LAST-MODIFIED:20240829T221357Z
UID:495105-1733238000-1733245200@iamlocal1487.org
SUMMARY:Local Lodge 1487 Business Meeting (All active members welcomed)
DESCRIPTION:
URL:https://iamlocal1487.org/event/local-lodge-1487-business-meeting-all-active-members-welcomed-8/
LOCATION:Local Lodge 1487\, 50 West Oakton Street\, Des Plaines\, IL\, 60018\, United States
ATTACH;FMTTYPE=image/png:https://iamlocal1487.org/wp-content/uploads/2024/08/LL-1487-Business-Meeting.png
ORGANIZER;CN="Local Lodge 1487":MAILTO:LL1487RS@gmail.com
END:VEVENT
BEGIN:VEVENT
DTSTART;VALUE=DATE:20241128
DTEND;VALUE=DATE:20241129
DTSTAMP:20260424T082557
CREATED:20240829T162621Z
LAST-MODIFIED:20240829T202535Z
UID:495137-1732752000-1732838399@iamlocal1487.org
SUMMARY:Thanskgiving Day
DESCRIPTION:
URL:https://iamlocal1487.org/event/thanskgiving-day/
ATTACH;FMTTYPE=image/jpeg:https://iamlocal1487.org/wp-content/uploads/2024/08/Thanksgiving.jpg
END:VEVENT
BEGIN:VEVENT
DTSTART;TZID=America/Chicago:20241128T000000
DTEND;TZID=America/Chicago:20241128T000000
DTSTAMP:20260424T082557
CREATED:20240829T161755Z
LAST-MODIFIED:20240829T221234Z
UID:495129-1732752000-1732752000@iamlocal1487.org
SUMMARY:(No Meeting due to Thanksgiving) Local Lodge 1487 Fleet and Customer Service Shift Meeting
DESCRIPTION:
URL:https://iamlocal1487.org/event/no-meeting-due-to-thanksgiving-local-lodge-1487-fleet-and-customer-service-shift-meeting/
LOCATION:Local Lodge 1487\, 50 West Oakton Street\, Des Plaines\, IL\, 60018\, United States
ATTACH;FMTTYPE=image/png:https://iamlocal1487.org/wp-content/uploads/2024/08/LL-1487-Shirt-Meeting1.png
ORGANIZER;CN="Local Lodge 1487":MAILTO:LL1487RS@gmail.com
END:VEVENT
BEGIN:VEVENT
DTSTART;TZID=America/Chicago:20241119T093000
DTEND;TZID=America/Chicago:20241119T113000
DTSTAMP:20260424T082557
CREATED:20240829T153609Z
LAST-MODIFIED:20240829T221137Z
UID:495103-1732008600-1732015800@iamlocal1487.org
SUMMARY:Local Lodge 1487 Business Meeting (All active members welcomed)
DESCRIPTION:
URL:https://iamlocal1487.org/event/local-lodge-1487-business-meeting-all-active-members-welcomed-7/
LOCATION:Local Lodge 1487\, 50 West Oakton Street\, Des Plaines\, IL\, 60018\, United States
ATTACH;FMTTYPE=image/png:https://iamlocal1487.org/wp-content/uploads/2024/08/LL-1487-Business-Meeting.png
ORGANIZER;CN="Local Lodge 1487":MAILTO:LL1487RS@gmail.com
END:VEVENT
BEGIN:VEVENT
DTSTART;VALUE=DATE:20241111
DTEND;VALUE=DATE:20241112
DTSTAMP:20260424T082557
CREATED:20240829T174644Z
LAST-MODIFIED:20240829T195905Z
UID:495169-1731283200-1731369599@iamlocal1487.org
SUMMARY:Veterans Day
DESCRIPTION:
URL:https://iamlocal1487.org/event/veterans-day/
ATTACH;FMTTYPE=image/webp:https://iamlocal1487.org/wp-content/uploads/2024/08/VeteransDayImage-KSI.webp
END:VEVENT
BEGIN:VEVENT
DTSTART;TZID=America/Chicago:20241107T110000
DTEND;TZID=America/Chicago:20241107T133000
DTSTAMP:20260424T082557
CREATED:20240829T154947Z
LAST-MODIFIED:20240829T221315Z
UID:495115-1730977200-1730986200@iamlocal1487.org
SUMMARY:Local Lodge 1487 Retirees Club Meeting (Burger Day)
DESCRIPTION:
URL:https://iamlocal1487.org/event/local-lodge-1487-retirees-club-meeting-burger-day/
LOCATION:Local Lodge 1487\, 50 West Oakton Street\, Des Plaines\, IL\, 60018\, United States
ATTACH;FMTTYPE=image/png:https://iamlocal1487.org/wp-content/uploads/2024/08/LL-1487-RC-gear.png
ORGANIZER;CN="Local Lodge 1487 Retirees Club":MAILTO:kulrod1@gmail.com
END:VEVENT
BEGIN:VEVENT
DTSTART;TZID=America/Chicago:20241106T150000
DTEND;TZID=America/Chicago:20241106T170000
DTSTAMP:20260424T082557
CREATED:20240829T150826Z
LAST-MODIFIED:20240829T221038Z
UID:495097-1730905200-1730912400@iamlocal1487.org
SUMMARY:Local Lodge 1487 Business Meeting (Date change due to federal election)
DESCRIPTION:
URL:https://iamlocal1487.org/event/local-lodge-1487-business-meeting-date-change-due-to-federal-election/
LOCATION:Local Lodge 1487\, 50 West Oakton Street\, Des Plaines\, IL\, 60018\, United States
ATTACH;FMTTYPE=image/png:https://iamlocal1487.org/wp-content/uploads/2024/08/LL-1487-Business-Meeting.png
ORGANIZER;CN="Local Lodge 1487":MAILTO:LL1487RS@gmail.com
END:VEVENT
BEGIN:VEVENT
DTSTART;TZID=America/Chicago:20241105T060000
DTEND;TZID=America/Chicago:20241105T190000
DTSTAMP:20260424T082557
CREATED:20240829T152149Z
LAST-MODIFIED:20240829T193605Z
UID:495099-1730786400-1730833200@iamlocal1487.org
SUMMARY:Presidential Election
DESCRIPTION:
URL:https://iamlocal1487.org/event/presidential-election/
ATTACH;FMTTYPE=image/jpeg:https://iamlocal1487.org/wp-content/uploads/2024/08/Presidential-election-2024.jpg
END:VEVENT
BEGIN:VEVENT
DTSTART;VALUE=DATE:20241103
DTEND;VALUE=DATE:20241104
DTSTAMP:20260424T082557
CREATED:20240829T174512Z
LAST-MODIFIED:20240829T200124Z
UID:495167-1730592000-1730678399@iamlocal1487.org
SUMMARY:Day Light Saving Time Ends
DESCRIPTION:
URL:https://iamlocal1487.org/event/day-light-saving-time-ends/
ATTACH;FMTTYPE=image/jpeg:https://iamlocal1487.org/wp-content/uploads/2024/08/Fall-Back.jpg
END:VEVENT
BEGIN:VEVENT
DTSTART;VALUE=DATE:20241031
DTEND;VALUE=DATE:20241101
DTSTAMP:20260424T082557
CREATED:20240829T174244Z
LAST-MODIFIED:20240829T195812Z
UID:495165-1730332800-1730419199@iamlocal1487.org
SUMMARY:Halloween
DESCRIPTION:
URL:https://iamlocal1487.org/event/halloween/
ATTACH;FMTTYPE=image/jpeg:https://iamlocal1487.org/wp-content/uploads/2024/08/Happy-Halloween.jpg
END:VEVENT
BEGIN:VEVENT
DTSTART;VALUE=DATE:20241029
DTEND;VALUE=DATE:20241101
DTSTAMP:20260424T082557
CREATED:20240829T165311Z
LAST-MODIFIED:20240829T201716Z
UID:495150-1730160000-1730419199@iamlocal1487.org
SUMMARY:District Lodge 2024 Convention-SFO
DESCRIPTION:
URL:https://iamlocal1487.org/event/district-lodge-2024-convention-sfo/
LOCATION:Hilton Hotel\, 333 O'Farrell Street\, San Francisco\, 94102
ATTACH;FMTTYPE=image/jpeg:https://iamlocal1487.org/wp-content/uploads/2024/08/DL-141-Convention-2024-1.jpg
ORGANIZER;CN="District Lodge 141-IAMAW":MAILTO:Contact@iam141.org
END:VEVENT
BEGIN:VEVENT
DTSTART;TZID=America/Chicago:20241024T200000
DTEND;TZID=America/Chicago:20241024T200000
DTSTAMP:20260424T082557
CREATED:20240829T161358Z
LAST-MODIFIED:20240829T223846Z
UID:495127-1729800000-1729800000@iamlocal1487.org
SUMMARY:Local Lodge 1487 Fleet and Customer Service Shift Meeting
DESCRIPTION:
URL:https://iamlocal1487.org/event/local-lodge-1487-fleet-and-customer-service-shift-meeting-2/
LOCATION:Local Lodge 1487\, 50 West Oakton Street\, Des Plaines\, IL\, 60018\, United States
ATTACH;FMTTYPE=image/png:https://iamlocal1487.org/wp-content/uploads/2024/08/LL-1487-Shirt-Meeting1.png
ORGANIZER;CN="Local Lodge 1487":MAILTO:LL1487RS@gmail.com
END:VEVENT
BEGIN:VEVENT
DTSTART;TZID=America/Chicago:20241015T093000
DTEND;TZID=America/Chicago:20241015T113000
DTSTAMP:20260424T082557
CREATED:20240829T150225Z
LAST-MODIFIED:20240829T223759Z
UID:495091-1728984600-1728991800@iamlocal1487.org
SUMMARY:Local Lodge 1487 Business Meeting (All active members welcomed)
DESCRIPTION:
URL:https://iamlocal1487.org/event/local-lodge-1487-business-meeting-all-active-members-welcomed-4/
LOCATION:Local Lodge 1487\, 50 West Oakton Street\, Des Plaines\, IL\, 60018\, United States
ATTACH;FMTTYPE=image/png:https://iamlocal1487.org/wp-content/uploads/2024/08/LL-1487-Business-Meeting.png
ORGANIZER;CN="Local Lodge 1487":MAILTO:LL1487RS@gmail.com
END:VEVENT
BEGIN:VEVENT
DTSTART;VALUE=DATE:20241014
DTEND;VALUE=DATE:20241015
DTSTAMP:20260424T082557
CREATED:20240829T162528Z
LAST-MODIFIED:20240829T201417Z
UID:495135-1728864000-1728950399@iamlocal1487.org
SUMMARY:Columbus Day
DESCRIPTION:
URL:https://iamlocal1487.org/event/columbus-day/
ATTACH;FMTTYPE=image/jpeg:https://iamlocal1487.org/wp-content/uploads/2024/08/Columbus-Day.jpg
END:VEVENT
BEGIN:VEVENT
DTSTART;TZID=America/Chicago:20241003T110000
DTEND;TZID=America/Chicago:20241003T133000
DTSTAMP:20260424T082557
CREATED:20240829T154656Z
LAST-MODIFIED:20240829T220937Z
UID:495113-1727953200-1727962200@iamlocal1487.org
SUMMARY:Local Lodge 1487 Retirees Club Meeting (Brown Bag Bingo)
DESCRIPTION:
URL:https://iamlocal1487.org/event/local-lodge-1487-retirees-club-meeting-brown-bag-bingo/
LOCATION:Local Lodge 1487\, 50 West Oakton Street\, Des Plaines\, IL\, 60018\, United States
ATTACH;FMTTYPE=image/png:https://iamlocal1487.org/wp-content/uploads/2024/08/LL-1487-RC-gear.png
ORGANIZER;CN="Local Lodge 1487 Retirees Club":MAILTO:kulrod1@gmail.com
END:VEVENT
BEGIN:VEVENT
DTSTART;TZID=America/Chicago:20241001T150000
DTEND;TZID=America/Chicago:20241001T170000
DTSTAMP:20260424T082557
CREATED:20240829T150059Z
LAST-MODIFIED:20240829T220850Z
UID:495089-1727794800-1727802000@iamlocal1487.org
SUMMARY:Local Lodge 1487 Business Meeting (All active members welcomed)
DESCRIPTION:
URL:https://iamlocal1487.org/event/local-lodge-1487-business-meeting-all-active-members-welcomed-3/
LOCATION:Local Lodge 1487\, 50 West Oakton Street\, Des Plaines\, IL\, 60018\, United States
ATTACH;FMTTYPE=image/png:https://iamlocal1487.org/wp-content/uploads/2024/08/LL-1487-Business-Meeting.png
ORGANIZER;CN="Local Lodge 1487":MAILTO:LL1487RS@gmail.com
END:VEVENT
BEGIN:VEVENT
DTSTART;TZID=America/Chicago:20240926T200000
DTEND;TZID=America/Chicago:20240926T200000
DTSTAMP:20260424T082557
CREATED:20240829T161256Z
LAST-MODIFIED:20240829T220807Z
UID:495125-1727380800-1727380800@iamlocal1487.org
SUMMARY:Local Lodge 1487 Fleet and Customer Service Shift Meeting
DESCRIPTION:
URL:https://iamlocal1487.org/event/local-lodge-1487-fleet-and-customer-service-shift-meeting/
LOCATION:Local Lodge 1487\, 50 West Oakton Street\, Des Plaines\, IL\, 60018\, United States
ATTACH;FMTTYPE=image/png:https://iamlocal1487.org/wp-content/uploads/2024/08/LL-1487-Shirt-Meeting1.png
ORGANIZER;CN="Local Lodge 1487":MAILTO:LL1487RS@gmail.com
END:VEVENT
BEGIN:VEVENT
DTSTART;TZID=America/Chicago:20240917T093000
DTEND;TZID=America/Chicago:20240917T103000
DTSTAMP:20260424T082557
CREATED:20240829T145903Z
LAST-MODIFIED:20240829T220732Z
UID:495087-1726565400-1726569000@iamlocal1487.org
SUMMARY:Local Lodge 1487 Business Meeting (All active members welcomed)
DESCRIPTION:
URL:https://iamlocal1487.org/event/local-lodge-1487-business-meeting-all-active-members-welcomed-2/
LOCATION:Local Lodge 1487\, 50 West Oakton Street\, Des Plaines\, IL\, 60018\, United States
ATTACH;FMTTYPE=image/png:https://iamlocal1487.org/wp-content/uploads/2024/08/LL-1487-Business-Meeting.png
ORGANIZER;CN="Local Lodge 1487":MAILTO:LL1487RS@gmail.com
END:VEVENT
BEGIN:VEVENT
DTSTART;TZID=America/Chicago:20240905T110000
DTEND;TZID=America/Chicago:20240905T133000
DTSTAMP:20260424T082557
CREATED:20240829T154528Z
LAST-MODIFIED:20240829T220655Z
UID:495111-1725534000-1725543000@iamlocal1487.org
SUMMARY:Local Lodge 1487 Retirees Club Meeting (Meet-n-Eat)
DESCRIPTION:
URL:https://iamlocal1487.org/event/local-lodge-1487-retirees-club-meeting-meet-n-eat/
LOCATION:Local Lodge 1487\, 50 West Oakton Street\, Des Plaines\, IL\, 60018\, United States
ATTACH;FMTTYPE=image/png:https://iamlocal1487.org/wp-content/uploads/2024/08/LL-1487-RC-gear.png
ORGANIZER;CN="Local Lodge 1487 Retirees Club":MAILTO:kulrod1@gmail.com
END:VEVENT
BEGIN:VEVENT
DTSTART;TZID=America/Chicago:20240903T150000
DTEND;TZID=America/Chicago:20240903T170000
DTSTAMP:20260424T082557
CREATED:20240829T145653Z
LAST-MODIFIED:20240829T220624Z
UID:495085-1725375600-1725382800@iamlocal1487.org
SUMMARY:Local Lodge 1487 Business Meeting (All active members welcomed)
DESCRIPTION:
URL:https://iamlocal1487.org/event/local-lodge-1487-business-meeting-all-active-members-welcomed/
LOCATION:Local Lodge 1487\, 50 West Oakton Street\, Des Plaines\, IL\, 60018\, United States
ATTACH;FMTTYPE=image/png:https://iamlocal1487.org/wp-content/uploads/2024/08/LL-1487-Business-Meeting.png
END:VEVENT
BEGIN:VEVENT
DTSTART;VALUE=DATE:20240902
DTEND;VALUE=DATE:20240903
DTSTAMP:20260424T082557
CREATED:20240829T162223Z
LAST-MODIFIED:20240829T200856Z
UID:495133-1725235200-1725321599@iamlocal1487.org
SUMMARY:Labor Day Holiday
DESCRIPTION:
URL:https://iamlocal1487.org/event/labor-day-holiday/
ATTACH;FMTTYPE=image/jpeg:https://iamlocal1487.org/wp-content/uploads/2024/08/labor-day.jpg
END:VEVENT
BEGIN:VEVENT
DTSTART;VALUE=DATE:20240901
DTEND;VALUE=DATE:20240907
DTSTAMP:20260424T082557
CREATED:20240829T163333Z
LAST-MODIFIED:20240829T200700Z
UID:495147-1725148800-1725667199@iamlocal1487.org
SUMMARY:IAMAW-2024 Grand Lodge Convention-New York\, NY
DESCRIPTION:
URL:https://iamlocal1487.org/event/iamaw-2024-grand-lodge-convention-new-york-ny/
ATTACH;FMTTYPE=image/jpeg:https://iamlocal1487.org/wp-content/uploads/2024/08/Grand-Lodge-Convention.jpg
END:VEVENT
BEGIN:VEVENT
DTSTART;TZID=America/Chicago:20240822T200000
DTEND;TZID=America/Chicago:20240822T200000
DTSTAMP:20260424T082557
CREATED:20240829T160931Z
LAST-MODIFIED:20240829T161127Z
UID:495123-1724356800-1724356800@iamlocal1487.org
SUMMARY:Local Lodge 1487 Fleet and Customer Service Shift Meeting (Canceled due to Golf outing)
DESCRIPTION:
URL:https://iamlocal1487.org/event/local-lodge-1487-fleet-and-customer-service-shift-meeting-canceled-due-to-golf-outing/
LOCATION:Local Lodge 1487\, 50 West Oakton Street\, Des Plaines\, IL\, 60018\, United States
ORGANIZER;CN="Local Lodge 1487":MAILTO:LL1487RS@gmail.com
END:VEVENT
BEGIN:VEVENT
DTSTART;TZID=America/Chicago:20240822T063000
DTEND;TZID=America/Chicago:20240822T160000
DTSTAMP:20260424T082557
CREATED:20240829T160544Z
LAST-MODIFIED:20240829T160549Z
UID:495120-1724308200-1724342400@iamlocal1487.org
SUMMARY:Local Lodge 1487 Golf Charity Event (Guide Dogs of America)
DESCRIPTION:
URL:https://iamlocal1487.org/event/local-lodge-1487-golf-charity-event-guide-dogs-of-america/
LOCATION:Bridges of Poplar Creek Country Club\, 1400 Poplar Creek Drive\, Hoffman Estates\, IL\, 60169\, United States
ORGANIZER;CN="Local Lodge 1487":MAILTO:LL1487RS@gmail.com
END:VEVENT
BEGIN:VEVENT
DTSTART;TZID=America/Chicago:20240820T093000
DTEND;TZID=America/Chicago:20240820T113000
DTSTAMP:20260424T082557
CREATED:20240829T150621Z
LAST-MODIFIED:20240829T150621Z
UID:495095-1724146200-1724153400@iamlocal1487.org
SUMMARY:Local Lodge 1487 Business Meeting (All active members welcomed)
DESCRIPTION:
URL:https://iamlocal1487.org/event/local-lodge-1487-business-meeting-all-active-members-welcomed-6/
LOCATION:Local Lodge 1487\, 50 West Oakton Street\, Des Plaines\, IL\, 60018\, United States
ORGANIZER;CN="Local Lodge 1487":MAILTO:LL1487RS@gmail.com
END:VEVENT
BEGIN:VEVENT
DTSTART;TZID=America/Chicago:20240806T150000
DTEND;TZID=America/Chicago:20240806T170000
DTSTAMP:20260424T082557
CREATED:20240829T150519Z
LAST-MODIFIED:20240829T150519Z
UID:495093-1722956400-1722963600@iamlocal1487.org
SUMMARY:Local Lodge 1487 Business Meeting (All active members welcomed)
DESCRIPTION:
URL:https://iamlocal1487.org/event/local-lodge-1487-business-meeting-all-active-members-welcomed-5/
LOCATION:Local Lodge 1487\, 50 West Oakton Street\, Des Plaines\, IL\, 60018\, United States
ORGANIZER;CN="Local Lodge 1487":MAILTO:LL1487RS@gmail.com
END:VEVENT
BEGIN:VEVENT
DTSTART;TZID=America/Chicago:20240801T110000
DTEND;TZID=America/Chicago:20240801T133000
DTSTAMP:20260424T082557
CREATED:20240829T154403Z
LAST-MODIFIED:20240829T154408Z
UID:495109-1722510000-1722519000@iamlocal1487.org
SUMMARY:Local Lodge 1487 Retirees Club Meeting (BBQ Fun Fair)
DESCRIPTION:
URL:https://iamlocal1487.org/event/local-lodge-1487-retirees-club-meeting-bbq-fun-fair/
LOCATION:Local Lodge 1487\, 50 West Oakton Street\, Des Plaines\, IL\, 60018\, United States
ORGANIZER;CN="Local Lodge 1487":MAILTO:LL1487RS@gmail.com
END:VEVENT
BEGIN:VEVENT
DTSTART;TZID=America/Chicago:20240618T090000
DTEND;TZID=America/Chicago:20240618T110000
DTSTAMP:20260424T082557
CREATED:20240604T163304Z
LAST-MODIFIED:20240604T163442Z
UID:247405-1718701200-1718708400@iamlocal1487.org
SUMMARY:Local Lodge 1487 Business Meeting (Second Reading and vote on Proposed By-law Changes)
DESCRIPTION:
URL:https://iamlocal1487.org/event/local-lodge-1487-business-meeting-second-reading-and-vote-on-proposed-by-law-changes/
END:VEVENT
BEGIN:VEVENT
DTSTART;TZID=America/Chicago:20240606T110000
DTEND;TZID=America/Chicago:20240606T130000
DTSTAMP:20260424T082557
CREATED:20240604T162442Z
LAST-MODIFIED:20240604T163703Z
UID:247402-1717671600-1717678800@iamlocal1487.org
SUMMARY:Local Lodge 1487 Retirees Club (Members Only) Hot Dogs
DESCRIPTION:
URL:https://iamlocal1487.org/event/local-lodge-1487-retirees-club-members-only/
LOCATION:Local Lodge 1487\, 50 West Oakton Street\, Des Plaines\, IL\, 60018\, United States
ORGANIZER;CN="Local Lodge 1487":MAILTO:LL1487RS@gmail.com
END:VEVENT
BEGIN:VEVENT
DTSTART;TZID=America/Chicago:20240604T130000
DTEND;TZID=America/Chicago:20240604T170000
DTSTAMP:20260424T082557
CREATED:20240604T160323Z
LAST-MODIFIED:20240604T163107Z
UID:247397-1717506000-1717520400@iamlocal1487.org
SUMMARY:Local Lodge Business Meeting (Reading of Proposed By-law Changes)
DESCRIPTION:
URL:https://iamlocal1487.org/event/local-lodge-business-meeting/
ORGANIZER;CN="Local Lodge 1487":MAILTO:LL1487RS@gmail.com
END:VEVENT
END:VCALENDAR